BEGIN:VCALENDAR
VERSION:2.0
PRODID:-//Saint John&#039;s Villa Academy - ECPv6.15.16//NONSGML v1.0//EN
CALSCALE:GREGORIAN
METHOD:PUBLISH
X-WR-CALNAME:Saint John&#039;s Villa Academy
X-ORIGINAL-URL:https://www.sjva.cl
X-WR-CALDESC:Eventos para Saint John&#039;s Villa Academy
REFRESH-INTERVAL;VALUE=DURATION:PT1H
X-Robots-Tag:noindex
X-PUBLISHED-TTL:PT1H
BEGIN:VTIMEZONE
TZID:America/Santiago
BEGIN:STANDARD
TZOFFSETFROM:-0300
TZOFFSETTO:-0400
TZNAME:-04
DTSTART:20240407T030000
END:STANDARD
BEGIN:DAYLIGHT
TZOFFSETFROM:-0400
TZOFFSETTO:-0300
TZNAME:-03
DTSTART:20240908T040000
END:DAYLIGHT
BEGIN:STANDARD
TZOFFSETFROM:-0300
TZOFFSETTO:-0400
TZNAME:-04
DTSTART:20250406T030000
END:STANDARD
BEGIN:DAYLIGHT
TZOFFSETFROM:-0400
TZOFFSETTO:-0300
TZNAME:-03
DTSTART:20250907T040000
END:DAYLIGHT
BEGIN:STANDARD
TZOFFSETFROM:-0300
TZOFFSETTO:-0400
TZNAME:-04
DTSTART:20260405T030000
END:STANDARD
BEGIN:DAYLIGHT
TZOFFSETFROM:-0400
TZOFFSETTO:-0300
TZNAME:-03
DTSTART:20260906T040000
END:DAYLIGHT
END:VTIMEZONE
BEGIN:VEVENT
DTSTART;TZID=America/Santiago:20251003T190000
DTEND;TZID=America/Santiago:20251003T190000
DTSTAMP:20260420T162831
CREATED:20241226T201436Z
LAST-MODIFIED:20250813T222103Z
UID:14099-1759518000-1759518000@www.sjva.cl
SUMMARY:Cena Bautistina
DESCRIPTION:
URL:https://www.sjva.cl/event/cena-bautistina-2/
CATEGORIES:Eventos
END:VEVENT
BEGIN:VEVENT
DTSTART;TZID=America/Santiago:20251004T110000
DTEND;TZID=America/Santiago:20251004T110000
DTSTAMP:20260420T162831
CREATED:20241226T201549Z
LAST-MODIFIED:20250930T142601Z
UID:14101-1759575600-1759575600@www.sjva.cl
SUMMARY:Eucaristía Familiar y Bautismos
DESCRIPTION:
URL:https://www.sjva.cl/event/eucaristia-familiar-y-bautismos/
CATEGORIES:Eventos
END:VEVENT
BEGIN:VEVENT
DTSTART;VALUE=DATE:20251010
DTEND;VALUE=DATE:20251011
DTSTAMP:20260420T162831
CREATED:20241226T201858Z
LAST-MODIFIED:20241226T201858Z
UID:14103-1760054400-1760140799@www.sjva.cl
SUMMARY:Fiesta Primavera Preescolar
DESCRIPTION:
URL:https://www.sjva.cl/event/fiesta-primavera-preescolar/
CATEGORIES:Eventos
END:VEVENT
BEGIN:VEVENT
DTSTART;TZID=America/Santiago:20251013T080000
DTEND;TZID=America/Santiago:20251013T090000
DTSTAMP:20260420T162831
CREATED:20251013T142533Z
LAST-MODIFIED:20251013T142554Z
UID:14689-1760342400-1760346000@www.sjva.cl
SUMMARY:Celebración por curso Día del Educador Bautistino
DESCRIPTION:
URL:https://www.sjva.cl/event/celebracion-por-curso-dia-del-educador-bautistino/
CATEGORIES:Eventos
END:VEVENT
BEGIN:VEVENT
DTSTART;TZID=America/Santiago:20251014T190000
DTEND;TZID=America/Santiago:20251014T190000
DTSTAMP:20260420T162831
CREATED:20250113T133846Z
LAST-MODIFIED:20250923T143735Z
UID:14137-1760468400-1760468400@www.sjva.cl
SUMMARY:Concierto Primavera - 1° a 4° básico
DESCRIPTION:
URL:https://www.sjva.cl/event/concierto-primavera-1-a-4-basico/
CATEGORIES:Eventos
END:VEVENT
BEGIN:VEVENT
DTSTART;TZID=America/Santiago:20251016T190000
DTEND;TZID=America/Santiago:20251016T190000
DTSTAMP:20260420T162831
CREATED:20241226T202535Z
LAST-MODIFIED:20251013T142334Z
UID:14107-1760641200-1760641200@www.sjva.cl
SUMMARY:Canonización San Alfonso: Oración Cantada
DESCRIPTION:
URL:https://www.sjva.cl/event/canonizacion-san-alfonso/
CATEGORIES:Eventos
END:VEVENT
BEGIN:VEVENT
DTSTART;TZID=America/Santiago:20251017T143000
DTEND;TZID=America/Santiago:20251017T143000
DTSTAMP:20260420T162831
CREATED:20241226T202235Z
LAST-MODIFIED:20251013T142259Z
UID:14105-1760711400-1760711400@www.sjva.cl
SUMMARY:No hay clases (Día del Educador Bautistino)
DESCRIPTION:
URL:https://www.sjva.cl/event/almuerzo-educador-bautistino/
CATEGORIES:Eventos
END:VEVENT
BEGIN:VEVENT
DTSTART;TZID=America/Santiago:20251018T180000
DTEND;TZID=America/Santiago:20251018T180000
DTSTAMP:20260420T162831
CREATED:20250113T134604Z
LAST-MODIFIED:20250113T134604Z
UID:14141-1760810400-1760810400@www.sjva.cl
SUMMARY:Eucaristía Familiar - 4° básico entrega del credo
DESCRIPTION:
URL:https://www.sjva.cl/event/eucaristia-familiar-4-basico-entrega-del-credo/
CATEGORIES:Eventos
END:VEVENT
BEGIN:VEVENT
DTSTART;TZID=America/Santiago:20251024T080000
DTEND;TZID=America/Santiago:20251026T170000
DTSTAMP:20260420T162831
CREATED:20250113T144136Z
LAST-MODIFIED:20250113T144148Z
UID:14185-1761292800-1761498000@www.sjva.cl
SUMMARY:Interescolar de Atletismo - Barra SJVA
DESCRIPTION:
URL:https://www.sjva.cl/event/interescolar-de-atletismo-3/
CATEGORIES:Eventos
END:VEVENT
BEGIN:VEVENT
DTSTART;TZID=America/Santiago:20251025T080000
DTEND;TZID=America/Santiago:20251025T170000
DTSTAMP:20260420T162831
CREATED:20251013T142447Z
LAST-MODIFIED:20251013T142450Z
UID:14687-1761379200-1761411600@www.sjva.cl
SUMMARY:Peregrinación Jubilar Juvenil - Santa Teresa de Los Andes
DESCRIPTION:
URL:https://www.sjva.cl/event/peregrinacion-jubilar-juvenil-santa-teresa-de-los-andes/
CATEGORIES:Eventos
END:VEVENT
BEGIN:VEVENT
DTSTART;VALUE=DATE:20251031
DTEND;VALUE=DATE:20251101
DTSTAMP:20260420T162831
CREATED:20250113T134952Z
LAST-MODIFIED:20250113T134952Z
UID:14143-1761868800-1761955199@www.sjva.cl
SUMMARY:Día Nacional de las Iglesias Evangélicas y Protestantes (estudiantes no asisten a clases)
DESCRIPTION:
URL:https://www.sjva.cl/event/dia-nacional-de-las-iglesias-evangelicas-y-protestantes-estudiantes-no-asisten-a-clases/
CATEGORIES:Eventos
END:VEVENT
END:VCALENDAR