BEGIN:VCALENDAR
VERSION:2.0
PRODID:-//Saint John&#039;s Villa Academy - ECPv6.15.16//NONSGML v1.0//EN
CALSCALE:GREGORIAN
METHOD:PUBLISH
X-ORIGINAL-URL:https://www.sjva.cl
X-WR-CALDESC:Eventos para Saint John&#039;s Villa Academy
REFRESH-INTERVAL;VALUE=DURATION:PT1H
X-Robots-Tag:noindex
X-PUBLISHED-TTL:PT1H
BEGIN:VTIMEZONE
TZID:America/Santiago
BEGIN:STANDARD
TZOFFSETFROM:-0300
TZOFFSETTO:-0400
TZNAME:-04
DTSTART:20240407T030000
END:STANDARD
BEGIN:DAYLIGHT
TZOFFSETFROM:-0400
TZOFFSETTO:-0300
TZNAME:-03
DTSTART:20240908T040000
END:DAYLIGHT
BEGIN:STANDARD
TZOFFSETFROM:-0300
TZOFFSETTO:-0400
TZNAME:-04
DTSTART:20250406T030000
END:STANDARD
BEGIN:DAYLIGHT
TZOFFSETFROM:-0400
TZOFFSETTO:-0300
TZNAME:-03
DTSTART:20250907T040000
END:DAYLIGHT
BEGIN:STANDARD
TZOFFSETFROM:-0300
TZOFFSETTO:-0400
TZNAME:-04
DTSTART:20260405T030000
END:STANDARD
BEGIN:DAYLIGHT
TZOFFSETFROM:-0400
TZOFFSETTO:-0300
TZNAME:-03
DTSTART:20260906T040000
END:DAYLIGHT
END:VTIMEZONE
BEGIN:VEVENT
DTSTART;TZID=America/Santiago:20250623T080000
DTEND;TZID=America/Santiago:20250630T170000
DTSTAMP:20260420T134454
CREATED:20250623T122113Z
LAST-MODIFIED:20250623T122117Z
UID:14562-1750665600-1751302800@www.sjva.cl
SUMMARY:Colegio cerrado\, sin atención a apoderados
DESCRIPTION:
URL:https://www.sjva.cl/event/colegio-cerrado-sin-atencion-a-apoderados/
CATEGORIES:Eventos
END:VEVENT
BEGIN:VEVENT
DTSTART;VALUE=DATE:20250620
DTEND;VALUE=DATE:20250621
DTSTAMP:20260420T134454
CREATED:20241226T183635Z
LAST-MODIFIED:20241226T183635Z
UID:14062-1750377600-1750463999@www.sjva.cl
SUMMARY:Feriado "Día de los Pueblos Originarios"
DESCRIPTION:
URL:https://www.sjva.cl/event/feriado-dia-de-los-pueblos-originarios/
CATEGORIES:Eventos
END:VEVENT
BEGIN:VEVENT
DTSTART;VALUE=DATE:20250619
DTEND;VALUE=DATE:20250620
DTSTAMP:20260420T134454
CREATED:20241226T182742Z
LAST-MODIFIED:20241226T183447Z
UID:14058-1750291200-1750377599@www.sjva.cl
SUMMARY:Último día de clases primer semestre
DESCRIPTION:
URL:https://www.sjva.cl/event/ultimo-dia-de-clases-primer-semestre-2/
CATEGORIES:Eventos
END:VEVENT
BEGIN:VEVENT
DTSTART;TZID=America/Santiago:20250617T080000
DTEND;TZID=America/Santiago:20250619T170000
DTSTAMP:20260420T134454
CREATED:20241226T183549Z
LAST-MODIFIED:20241226T183549Z
UID:14060-1750147200-1750352400@www.sjva.cl
SUMMARY:Semana del Colegio
DESCRIPTION:
URL:https://www.sjva.cl/event/semana-del-colegio-7/
CATEGORIES:Eventos
END:VEVENT
BEGIN:VEVENT
DTSTART;TZID=America/Santiago:20250614T180000
DTEND;TZID=America/Santiago:20250614T180000
DTSTAMP:20260420T134454
CREATED:20250113T143648Z
LAST-MODIFIED:20250113T143648Z
UID:14181-1749924000-1749924000@www.sjva.cl
SUMMARY:Eucaristía Familiar Natalicio San Juan Bautista
DESCRIPTION:
URL:https://www.sjva.cl/event/eucaristia-familiar-natalicio-san-juan-bautista/
CATEGORIES:Eventos
END:VEVENT
BEGIN:VEVENT
DTSTART;TZID=America/Santiago:20250613T190000
DTEND;TZID=America/Santiago:20250613T190000
DTSTAMP:20260420T134454
CREATED:20250414T210421Z
LAST-MODIFIED:20250530T003836Z
UID:14274-1749841200-1749841200@www.sjva.cl
SUMMARY:Confirmación
DESCRIPTION:
URL:https://www.sjva.cl/event/confirmacion/
CATEGORIES:Eventos
END:VEVENT
BEGIN:VEVENT
DTSTART;TZID=America/Santiago:20250607T150000
DTEND;TZID=America/Santiago:20250607T150000
DTSTAMP:20260420T134454
CREATED:20250113T143518Z
LAST-MODIFIED:20250602T200229Z
UID:14179-1749308400-1749308400@www.sjva.cl
SUMMARY:Café Concert - CPA
DESCRIPTION:
URL:https://www.sjva.cl/event/cafe-concert-y-evento-somos-sjva-solidario-cpa/
CATEGORIES:Eventos
END:VEVENT
BEGIN:VEVENT
DTSTART;TZID=America/Santiago:20250607T100000
DTEND;TZID=America/Santiago:20250607T100000
DTSTAMP:20260420T134454
CREATED:20250530T004815Z
LAST-MODIFIED:20250530T004815Z
UID:14542-1749290400-1749290400@www.sjva.cl
SUMMARY:Jornada de evaluación diagnóstica Admisión 2° semestre 2025
DESCRIPTION:
URL:https://www.sjva.cl/event/jornada-de-evaluacion-diagnostica-admision-2-semestre-2025/
CATEGORIES:Eventos
END:VEVENT
BEGIN:VEVENT
DTSTART;TZID=America/Santiago:20250531T180000
DTEND;TZID=America/Santiago:20250531T180000
DTSTAMP:20260420T134454
CREATED:20241226T182007Z
LAST-MODIFIED:20250414T204856Z
UID:14054-1748714400-1748714400@www.sjva.cl
SUMMARY:Eucaristía familiar - Bautizos
DESCRIPTION:
URL:https://www.sjva.cl/event/eucaristia-familiar-bautizos/
CATEGORIES:Eventos
END:VEVENT
BEGIN:VEVENT
DTSTART;TZID=America/Santiago:20250524T180000
DTEND;TZID=America/Santiago:20250524T180000
DTSTAMP:20260420T134454
CREATED:20241226T182146Z
LAST-MODIFIED:20241226T182146Z
UID:14056-1748109600-1748109600@www.sjva.cl
SUMMARY:Eucaristía Familiar: entrega de los Mandamientos
DESCRIPTION:
URL:https://www.sjva.cl/event/eucaristia-familiar-entrega-de-los-mandamientos/
CATEGORIES:Eventos
END:VEVENT
BEGIN:VEVENT
DTSTART;TZID=America/Santiago:20250524T113000
DTEND;TZID=America/Santiago:20250524T113000
DTSTAMP:20260420T134454
CREATED:20250517T050234Z
LAST-MODIFIED:20250517T050241Z
UID:14433-1748086200-1748086200@www.sjva.cl
SUMMARY:Open Day: ¡Ven a conocer a nuestro colegio!
DESCRIPTION:
URL:https://www.sjva.cl/event/open-day-ven-a-conocer-a-nuestro-colegio/
CATEGORIES:Eventos
END:VEVENT
BEGIN:VEVENT
DTSTART;VALUE=DATE:20250521
DTEND;VALUE=DATE:20250522
DTSTAMP:20260420T134454
CREATED:20241226T181846Z
LAST-MODIFIED:20241226T181846Z
UID:14052-1747785600-1747871999@www.sjva.cl
SUMMARY:Día de las Glorias Navales
DESCRIPTION:
URL:https://www.sjva.cl/event/dia-de-las-glorias-navales-4/
CATEGORIES:Eventos
END:VEVENT
BEGIN:VEVENT
DTSTART;TZID=America/Santiago:20250519T081500
DTEND;TZID=America/Santiago:20250523T080000
DTSTAMP:20260420T134454
CREATED:20241226T181003Z
LAST-MODIFIED:20241226T181003Z
UID:14050-1747642500-1747987200@www.sjva.cl
SUMMARY:Semana de la familia
DESCRIPTION:
URL:https://www.sjva.cl/event/semana-de-la-familia-4/
CATEGORIES:Eventos
END:VEVENT
BEGIN:VEVENT
DTSTART;TZID=America/Santiago:20250519T080000
DTEND;TZID=America/Santiago:20250519T080000
DTSTAMP:20260420T134454
CREATED:20250517T050153Z
LAST-MODIFIED:20250517T050153Z
UID:14431-1747641600-1747641600@www.sjva.cl
SUMMARY:Admisión especial 2° semestre 2025
DESCRIPTION:
URL:https://www.sjva.cl/event/admision-especial-2-semestre-2025/
CATEGORIES:Eventos
END:VEVENT
BEGIN:VEVENT
DTSTART;TZID=America/Santiago:20250517T100000
DTEND;TZID=America/Santiago:20250517T100000
DTSTAMP:20260420T134454
CREATED:20250414T205004Z
LAST-MODIFIED:20250414T210655Z
UID:14272-1747476000-1747476000@www.sjva.cl
SUMMARY:Retiro de confirmación -  Padrinos y Confirmando
DESCRIPTION:
URL:https://www.sjva.cl/event/retiro-de-confirmacion-padrinos-y-confirmando/
CATEGORIES:Eventos
END:VEVENT
BEGIN:VEVENT
DTSTART;TZID=America/Santiago:20250512T080000
DTEND;TZID=America/Santiago:20250516T170000
DTSTAMP:20260420T134454
CREATED:20250509T170510Z
LAST-MODIFIED:20250509T170510Z
UID:14358-1747036800-1747414800@www.sjva.cl
SUMMARY:Semana de las Artes
DESCRIPTION:
URL:https://www.sjva.cl/event/semana-de-las-artes/
CATEGORIES:Eventos
END:VEVENT
BEGIN:VEVENT
DTSTART;VALUE=DATE:20250507
DTEND;VALUE=DATE:20250508
DTSTAMP:20260420T134454
CREATED:20241226T175210Z
LAST-MODIFIED:20241226T180717Z
UID:14044-1746576000-1746662399@www.sjva.cl
SUMMARY:Día del Estudiante
DESCRIPTION:
URL:https://www.sjva.cl/event/dia-del-estudiante-6/
CATEGORIES:Eventos
END:VEVENT
BEGIN:VEVENT
DTSTART;VALUE=DATE:20250502
DTEND;VALUE=DATE:20250503
DTSTAMP:20260420T134454
CREATED:20241226T161328Z
LAST-MODIFIED:20241226T161328Z
UID:14039-1746144000-1746230399@www.sjva.cl
SUMMARY:Interferiado
DESCRIPTION:
URL:https://www.sjva.cl/event/interferiado-10/
CATEGORIES:Eventos
END:VEVENT
BEGIN:VEVENT
DTSTART;VALUE=DATE:20250501
DTEND;VALUE=DATE:20250502
DTSTAMP:20260420T134454
CREATED:20241226T161544Z
LAST-MODIFIED:20241226T161544Z
UID:14042-1746057600-1746143999@www.sjva.cl
SUMMARY:Día del Trabajo (feriado)
DESCRIPTION:
URL:https://www.sjva.cl/event/dia-del-trabajo-feriado/
CATEGORIES:Eventos
END:VEVENT
BEGIN:VEVENT
DTSTART;VALUE=DATE:20250430
DTEND;VALUE=DATE:20250501
DTSTAMP:20260420T134454
CREATED:20241226T161223Z
LAST-MODIFIED:20241226T161223Z
UID:14037-1745971200-1746057599@www.sjva.cl
SUMMARY:Jornada de reflexión pedagógica (estudiantes no asisten a clases)
DESCRIPTION:
URL:https://www.sjva.cl/event/jornada-de-reflexion-pedagogica-estudiantes-no-asisten-a-clases/
CATEGORIES:Eventos
END:VEVENT
BEGIN:VEVENT
DTSTART;TZID=America/Santiago:20250429T190000
DTEND;TZID=America/Santiago:20250429T190000
DTSTAMP:20260420T134454
CREATED:20250422T181951Z
LAST-MODIFIED:20250422T181951Z
UID:14291-1745953200-1745953200@www.sjva.cl
SUMMARY:Reunión Dirección con Directivas 7° básico a IV° medio
DESCRIPTION:
URL:https://www.sjva.cl/event/reunion-direccion-con-directivas-7-basico-a-iv-medio/
CATEGORIES:Eventos
END:VEVENT
BEGIN:VEVENT
DTSTART;VALUE=DATE:20250429
DTEND;VALUE=DATE:20250430
DTSTAMP:20260420T134454
CREATED:20241226T155407Z
LAST-MODIFIED:20241226T155407Z
UID:14032-1745884800-1745971199@www.sjva.cl
SUMMARY:Día de la Convivencia Escolar
DESCRIPTION:
URL:https://www.sjva.cl/event/dia-de-la-convivencia-escolar-2/
CATEGORIES:Eventos
END:VEVENT
BEGIN:VEVENT
DTSTART;TZID=America/Santiago:20250428T083000
DTEND;TZID=America/Santiago:20250429T163000
DTSTAMP:20260420T134454
CREATED:20241226T160910Z
LAST-MODIFIED:20241226T161010Z
UID:14035-1745829000-1745944200@www.sjva.cl
SUMMARY:Matrícula Prekínder 2026
DESCRIPTION:
URL:https://www.sjva.cl/event/matricula-prekinder-2026/
CATEGORIES:Eventos
END:VEVENT
BEGIN:VEVENT
DTSTART;TZID=America/Santiago:20250426T120000
DTEND;TZID=America/Santiago:20250426T120000
DTSTAMP:20260420T134454
CREATED:20250422T182324Z
LAST-MODIFIED:20250422T182324Z
UID:14295-1745668800-1745668800@www.sjva.cl
SUMMARY:Eucaristía en honor a Sister John Marie White
DESCRIPTION:
URL:https://www.sjva.cl/event/eucaristia-en-honor-a-sister-john-marie-white/
CATEGORIES:Eventos
END:VEVENT
BEGIN:VEVENT
DTSTART;TZID=America/Santiago:20250424T200000
DTEND;TZID=America/Santiago:20250424T200000
DTSTAMP:20260420T134454
CREATED:20241226T155142Z
LAST-MODIFIED:20241226T160805Z
UID:14029-1745524800-1745524800@www.sjva.cl
SUMMARY:Publicación Lista de aceptados y de espera Prekínder
DESCRIPTION:
URL:https://www.sjva.cl/event/publicacion-admision-prekinder/
CATEGORIES:Eventos
END:VEVENT
BEGIN:VEVENT
DTSTART;TZID=America/Santiago:20250424T190000
DTEND;TZID=America/Santiago:20250424T190000
DTSTAMP:20260420T134454
CREATED:20250422T182028Z
LAST-MODIFIED:20250422T182028Z
UID:14293-1745521200-1745521200@www.sjva.cl
SUMMARY:Ceremonia de los Anillos IV° medio
DESCRIPTION:
URL:https://www.sjva.cl/event/ceremonia-de-los-anillos-iv-medio/
CATEGORIES:Eventos
END:VEVENT
BEGIN:VEVENT
DTSTART;TZID=America/Santiago:20250423T180000
DTEND;TZID=America/Santiago:20250423T180000
DTSTAMP:20260420T134454
CREATED:20250417T201623Z
LAST-MODIFIED:20250417T201626Z
UID:14284-1745431200-1745431200@www.sjva.cl
SUMMARY:Café Literario
DESCRIPTION:
URL:https://www.sjva.cl/event/cafe-literario/
CATEGORIES:Eventos
END:VEVENT
BEGIN:VEVENT
DTSTART;TZID=America/Santiago:20250423T080000
DTEND;TZID=America/Santiago:20250423T170000
DTSTAMP:20260420T134454
CREATED:20250310T192455Z
LAST-MODIFIED:20250310T192455Z
UID:14209-1745395200-1745427600@www.sjva.cl
SUMMARY:Día del libro\, la lectura y el derecho del autor
DESCRIPTION:
URL:https://www.sjva.cl/event/dia-del-libro-la-lectura-y-el-derecho-del-autor/
CATEGORIES:Eventos
END:VEVENT
BEGIN:VEVENT
DTSTART;TZID=America/Santiago:20250422T190000
DTEND;TZID=America/Santiago:20250422T190000
DTSTAMP:20260420T134454
CREATED:20250422T181922Z
LAST-MODIFIED:20250422T181922Z
UID:14289-1745348400-1745348400@www.sjva.cl
SUMMARY:Reunión Dirección con Directivas 3° a 6° básico
DESCRIPTION:
URL:https://www.sjva.cl/event/reunion-direccion-con-directivas-3-a-6-basico/
CATEGORIES:Eventos
END:VEVENT
BEGIN:VEVENT
DTSTART;TZID=America/Santiago:20250421T081500
DTEND;TZID=America/Santiago:20250421T091500
DTSTAMP:20260420T134454
CREATED:20241226T154002Z
LAST-MODIFIED:20241226T154002Z
UID:14024-1745223300-1745226900@www.sjva.cl
SUMMARY:Acogida de Resurrección
DESCRIPTION:
URL:https://www.sjva.cl/event/acogida-de-resurreccion/
CATEGORIES:Eventos
END:VEVENT
END:VCALENDAR