BEGIN:VCALENDAR
VERSION:2.0
PRODID:-//Saint John&#039;s Villa Academy - ECPv6.15.16//NONSGML v1.0//EN
CALSCALE:GREGORIAN
METHOD:PUBLISH
X-ORIGINAL-URL:https://www.sjva.cl
X-WR-CALDESC:Eventos para Saint John&#039;s Villa Academy
REFRESH-INTERVAL;VALUE=DURATION:PT1H
X-Robots-Tag:noindex
X-PUBLISHED-TTL:PT1H
BEGIN:VTIMEZONE
TZID:America/Santiago
BEGIN:STANDARD
TZOFFSETFROM:-0300
TZOFFSETTO:-0400
TZNAME:-04
DTSTART:20240407T030000
END:STANDARD
BEGIN:DAYLIGHT
TZOFFSETFROM:-0400
TZOFFSETTO:-0300
TZNAME:-03
DTSTART:20240908T040000
END:DAYLIGHT
BEGIN:STANDARD
TZOFFSETFROM:-0300
TZOFFSETTO:-0400
TZNAME:-04
DTSTART:20250406T030000
END:STANDARD
BEGIN:DAYLIGHT
TZOFFSETFROM:-0400
TZOFFSETTO:-0300
TZNAME:-03
DTSTART:20250907T040000
END:DAYLIGHT
BEGIN:STANDARD
TZOFFSETFROM:-0300
TZOFFSETTO:-0400
TZNAME:-04
DTSTART:20260405T030000
END:STANDARD
BEGIN:DAYLIGHT
TZOFFSETFROM:-0400
TZOFFSETTO:-0300
TZNAME:-03
DTSTART:20260906T040000
END:DAYLIGHT
BEGIN:STANDARD
TZOFFSETFROM:-0300
TZOFFSETTO:-0400
TZNAME:-04
DTSTART:20270404T030000
END:STANDARD
BEGIN:DAYLIGHT
TZOFFSETFROM:-0400
TZOFFSETTO:-0300
TZNAME:-03
DTSTART:20270905T040000
END:DAYLIGHT
END:VTIMEZONE
BEGIN:VEVENT
DTSTART;TZID=America/Santiago:20251112T080000
DTEND;TZID=America/Santiago:20251112T170000
DTSTAMP:20260420T180855
CREATED:20250113T135518Z
LAST-MODIFIED:20250113T135518Z
UID:14151-1762934400-1762966800@www.sjva.cl
SUMMARY:Ultima Lista y Túnel de despedida IV° medio
DESCRIPTION:
URL:https://www.sjva.cl/event/ultima-lista-y-tunel-de-despedida-iv-medio/
CATEGORIES:Eventos
END:VEVENT
BEGIN:VEVENT
DTSTART;TZID=America/Santiago:20251112T190000
DTEND;TZID=America/Santiago:20251112T210000
DTSTAMP:20260420T180855
CREATED:20250113T135624Z
LAST-MODIFIED:20250113T135624Z
UID:14153-1762974000-1762981200@www.sjva.cl
SUMMARY:Show de papás y profesores
DESCRIPTION:
URL:https://www.sjva.cl/event/show-de-papas-y-profesores-2/
CATEGORIES:Eventos
END:VEVENT
BEGIN:VEVENT
DTSTART;TZID=America/Santiago:20251113T093000
DTEND;TZID=America/Santiago:20251113T103000
DTSTAMP:20260420T180855
CREATED:20250113T135734Z
LAST-MODIFIED:20250113T135734Z
UID:14155-1763026200-1763029800@www.sjva.cl
SUMMARY:Ensayo Ceremonia Graduación
DESCRIPTION:
URL:https://www.sjva.cl/event/ensayo-ceremonia-graduacion/
CATEGORIES:Eventos
END:VEVENT
BEGIN:VEVENT
DTSTART;TZID=America/Santiago:20251114T190000
DTEND;TZID=America/Santiago:20251114T190000
DTSTAMP:20260420T180855
CREATED:20250113T135818Z
LAST-MODIFIED:20250113T141850Z
UID:14157-1763146800-1763146800@www.sjva.cl
SUMMARY:Licenciatura IV° medio
DESCRIPTION:
URL:https://www.sjva.cl/event/licenciatura-iv-medio/
CATEGORIES:Eventos
END:VEVENT
BEGIN:VEVENT
DTSTART;TZID=America/Santiago:20251115T080000
DTEND;TZID=America/Santiago:20251115T170000
DTSTAMP:20260420T180855
CREATED:20250113T135923Z
LAST-MODIFIED:20250113T135923Z
UID:14159-1763193600-1763226000@www.sjva.cl
SUMMARY:CPA - Fiesta Comunidad SJVA
DESCRIPTION:
URL:https://www.sjva.cl/event/cpa-fiesta-comunidad-sjva/
CATEGORIES:Eventos
END:VEVENT
BEGIN:VEVENT
DTSTART;TZID=America/Santiago:20251122T180000
DTEND;TZID=America/Santiago:20251122T180000
DTSTAMP:20260420T180855
CREATED:20250113T140208Z
LAST-MODIFIED:20250113T140208Z
UID:14163-1763834400-1763834400@www.sjva.cl
SUMMARY:Eucaristía Familiar
DESCRIPTION:
URL:https://www.sjva.cl/event/eucaristia-familiar-16/
CATEGORIES:Eventos
END:VEVENT
BEGIN:VEVENT
DTSTART;TZID=America/Santiago:20251126T083000
DTEND;TZID=America/Santiago:20251126T093000
DTSTAMP:20260420T180855
CREATED:20250113T140110Z
LAST-MODIFIED:20250113T140110Z
UID:14161-1764145800-1764149400@www.sjva.cl
SUMMARY:Exposición 1° - 2° y 3° básico (Expo Chile y raíces del mundo antiguo)
DESCRIPTION:
URL:https://www.sjva.cl/event/exposicion-1-2-y-3-basico-expo-chile-y-raices-del-mundo-antiguo/
CATEGORIES:Eventos
END:VEVENT
BEGIN:VEVENT
DTSTART;TZID=America/Santiago:20251205T083000
DTEND;TZID=America/Santiago:20251205T170000
DTSTAMP:20260420T180855
CREATED:20250113T140319Z
LAST-MODIFIED:20250113T140319Z
UID:14165-1764923400-1764954000@www.sjva.cl
SUMMARY:Eucaristía interna finalización Mes de María
DESCRIPTION:
URL:https://www.sjva.cl/event/eucaristia-interna-finalizacion-mes-de-maria/
CATEGORIES:Eventos
END:VEVENT
BEGIN:VEVENT
DTSTART;TZID=America/Santiago:20251208T080000
DTEND;TZID=America/Santiago:20251208T170000
DTSTAMP:20260420T180855
CREATED:20250113T140402Z
LAST-MODIFIED:20250113T140402Z
UID:14167-1765180800-1765213200@www.sjva.cl
SUMMARY:Día de la Inmaculada Concepción (estudiantes no asisten a clases)
DESCRIPTION:
URL:https://www.sjva.cl/event/dia-de-la-inmaculada-concepcion-estudiantes-no-asisten-a-clases/
CATEGORIES:Eventos
END:VEVENT
BEGIN:VEVENT
DTSTART;TZID=America/Santiago:20251209T190000
DTEND;TZID=America/Santiago:20251209T190000
DTSTAMP:20260420T180855
CREATED:20250113T140440Z
LAST-MODIFIED:20250113T140440Z
UID:14169-1765306800-1765306800@www.sjva.cl
SUMMARY:Misa Fin de Año (Adviento - Navidad)
DESCRIPTION:
URL:https://www.sjva.cl/event/misa-fin-de-ano-adviento-navidad/
CATEGORIES:Eventos
END:VEVENT
BEGIN:VEVENT
DTSTART;TZID=America/Santiago:20251212T080000
DTEND;TZID=America/Santiago:20251212T170000
DTSTAMP:20260420T180855
CREATED:20250113T140642Z
LAST-MODIFIED:20250113T140642Z
UID:14173-1765526400-1765558800@www.sjva.cl
SUMMARY:Último día de clases
DESCRIPTION:
URL:https://www.sjva.cl/event/ultimo-dia-de-clases-5/
CATEGORIES:Eventos
END:VEVENT
BEGIN:VEVENT
DTSTART;TZID=America/Santiago:20260303T080000
DTEND;TZID=America/Santiago:20260303T170000
DTSTAMP:20260420T180855
CREATED:20260131T185424Z
LAST-MODIFIED:20260208T232325Z
UID:15066-1772524800-1772557200@www.sjva.cl
SUMMARY:Inicios de clases 2026
DESCRIPTION:PLAYGROUP \nFECHA DE INGRESO: martes 3 de marzo.\nHORARIO DE ENTRADA: 8:00 hrs.\nHORARIO DE SALIDA PRIMERA SEMANA: desde el martes 3 al viernes 6 de marzo: 12:00 hrs. \nPREKÍNDER \nFECHA DE INGRESO: martes 3 de marzo.\nHORARIO DE ENTRADA: 8:00 hrs.\nHORARIO DE SALIDA PRIMERA SEMANA: desde el martes 3 al viernes 6 de marzo: 12:00 hrs. \nKÍNDER \nFECHA DE INGRESO: miércoles 4 de marzo.\nHORARIO DE ENTRADA: 8:00 hrs.\nHORARIO DE SALIDA PRIMERA SEMANA: desde el miércoles 4 al viernes 6 de marzo: 12:00 hrs. \n1º BÁSICO \nHORARIO DE ENTRADA: 8:00 hrs.\nHORARIO DE SALIDA PRIMERA SEMANA: martes 3\, miércoles 4\, jueves 5 y viernes 6 de marzo: 12:55 hrs.\nSin almuerzo. \nDE 2° BÁSICO A IV° MEDIO\nFECHA DE INGRESO: miércoles 4 marzo.\nHORARIO DE ENTRADA: 8:00 hrs.\nHORARIO DE SALIDA PRIMERA SEMANA: miércoles 4\, jueves 5 y viernes 6 de marzo: 12:55 hrs. Sin almuerzo.
URL:https://www.sjva.cl/event/inicios-de-clases-2026/
CATEGORIES:Eventos
END:VEVENT
END:VCALENDAR