BEGIN:VCALENDAR
VERSION:2.0
PRODID:-//Saint John&#039;s Villa Academy - ECPv6.15.16//NONSGML v1.0//EN
CALSCALE:GREGORIAN
METHOD:PUBLISH
X-WR-CALNAME:Saint John&#039;s Villa Academy
X-ORIGINAL-URL:https://www.sjva.cl
X-WR-CALDESC:Eventos para Saint John&#039;s Villa Academy
REFRESH-INTERVAL;VALUE=DURATION:PT1H
X-Robots-Tag:noindex
X-PUBLISHED-TTL:PT1H
BEGIN:VTIMEZONE
TZID:America/Santiago
BEGIN:STANDARD
TZOFFSETFROM:-0300
TZOFFSETTO:-0400
TZNAME:-04
DTSTART:20240407T030000
END:STANDARD
BEGIN:DAYLIGHT
TZOFFSETFROM:-0400
TZOFFSETTO:-0300
TZNAME:-03
DTSTART:20240908T040000
END:DAYLIGHT
BEGIN:STANDARD
TZOFFSETFROM:-0300
TZOFFSETTO:-0400
TZNAME:-04
DTSTART:20250406T030000
END:STANDARD
BEGIN:DAYLIGHT
TZOFFSETFROM:-0400
TZOFFSETTO:-0300
TZNAME:-03
DTSTART:20250907T040000
END:DAYLIGHT
BEGIN:STANDARD
TZOFFSETFROM:-0300
TZOFFSETTO:-0400
TZNAME:-04
DTSTART:20260405T030000
END:STANDARD
BEGIN:DAYLIGHT
TZOFFSETFROM:-0400
TZOFFSETTO:-0300
TZNAME:-03
DTSTART:20260906T040000
END:DAYLIGHT
END:VTIMEZONE
BEGIN:VEVENT
DTSTART;TZID=America/Santiago:20250909T090000
DTEND;TZID=America/Santiago:20250909T090000
DTSTAMP:20260420T204844
CREATED:20241226T194034Z
LAST-MODIFIED:20250820T205025Z
UID:14089-1757408400-1757408400@www.sjva.cl
SUMMARY:Presentación Bailes Fiestas Patrias
DESCRIPTION:– De Playgroup a 4º básico: 9:00 am.\n– De 5º básico a IVº medio: 19:00 am.
URL:https://www.sjva.cl/event/presentacion-bailes-fiestas-patrias/
CATEGORIES:Eventos
END:VEVENT
END:VCALENDAR