BEGIN:VCALENDAR
VERSION:2.0
PRODID:-//Saint John&#039;s Villa Academy - ECPv6.15.16//NONSGML v1.0//EN
CALSCALE:GREGORIAN
METHOD:PUBLISH
X-ORIGINAL-URL:https://www.sjva.cl
X-WR-CALDESC:Eventos para Saint John&#039;s Villa Academy
REFRESH-INTERVAL;VALUE=DURATION:PT1H
X-Robots-Tag:noindex
X-PUBLISHED-TTL:PT1H
BEGIN:VTIMEZONE
TZID:America/Santiago
BEGIN:STANDARD
TZOFFSETFROM:-0300
TZOFFSETTO:-0400
TZNAME:-04
DTSTART:20240407T030000
END:STANDARD
BEGIN:DAYLIGHT
TZOFFSETFROM:-0400
TZOFFSETTO:-0300
TZNAME:-03
DTSTART:20240908T040000
END:DAYLIGHT
BEGIN:STANDARD
TZOFFSETFROM:-0300
TZOFFSETTO:-0400
TZNAME:-04
DTSTART:20250406T030000
END:STANDARD
BEGIN:DAYLIGHT
TZOFFSETFROM:-0400
TZOFFSETTO:-0300
TZNAME:-03
DTSTART:20250907T040000
END:DAYLIGHT
BEGIN:STANDARD
TZOFFSETFROM:-0300
TZOFFSETTO:-0400
TZNAME:-04
DTSTART:20260405T030000
END:STANDARD
BEGIN:DAYLIGHT
TZOFFSETFROM:-0400
TZOFFSETTO:-0300
TZNAME:-03
DTSTART:20260906T040000
END:DAYLIGHT
END:VTIMEZONE
BEGIN:VEVENT
DTSTART;VALUE=DATE:20250709
DTEND;VALUE=DATE:20250710
DTSTAMP:20260425T093152
CREATED:20241226T190019Z
LAST-MODIFIED:20241226T190019Z
UID:14070-1752019200-1752105599@www.sjva.cl
SUMMARY:Apertura Admisión General 2026
DESCRIPTION:
URL:https://www.sjva.cl/event/apertura-admision-general-2026/
CATEGORIES:Eventos
END:VEVENT
BEGIN:VEVENT
DTSTART;TZID=America/Santiago:20250709T081500
DTEND;TZID=America/Santiago:20250709T081500
DTSTAMP:20260425T093152
CREATED:20241226T184048Z
LAST-MODIFIED:20241226T184048Z
UID:14068-1752048900-1752048900@www.sjva.cl
SUMMARY:Inicio clases segundo semestre
DESCRIPTION:
URL:https://www.sjva.cl/event/inicio-clases-segundo-semestre/
CATEGORIES:Eventos
END:VEVENT
END:VCALENDAR